BEGIN:VCALENDAR
VERSION:2.0
PRODID:-//Oh My Cupcakes! - ECPv6.15.18//NONSGML v1.0//EN
CALSCALE:GREGORIAN
METHOD:PUBLISH
X-WR-CALNAME:Oh My Cupcakes!
X-ORIGINAL-URL:https://ohmycupcakes.com
X-WR-CALDESC:Events for Oh My Cupcakes!
REFRESH-INTERVAL;VALUE=DURATION:PT1H
X-Robots-Tag:noindex
X-PUBLISHED-TTL:PT1H
BEGIN:VTIMEZONE
TZID:America/Chicago
BEGIN:DAYLIGHT
TZOFFSETFROM:-0600
TZOFFSETTO:-0500
TZNAME:CDT
DTSTART:20250309T080000
END:DAYLIGHT
BEGIN:STANDARD
TZOFFSETFROM:-0500
TZOFFSETTO:-0600
TZNAME:CST
DTSTART:20251102T070000
END:STANDARD
BEGIN:DAYLIGHT
TZOFFSETFROM:-0600
TZOFFSETTO:-0500
TZNAME:CDT
DTSTART:20260308T080000
END:DAYLIGHT
BEGIN:STANDARD
TZOFFSETFROM:-0500
TZOFFSETTO:-0600
TZNAME:CST
DTSTART:20261101T070000
END:STANDARD
BEGIN:DAYLIGHT
TZOFFSETFROM:-0600
TZOFFSETTO:-0500
TZNAME:CDT
DTSTART:20270314T080000
END:DAYLIGHT
BEGIN:STANDARD
TZOFFSETFROM:-0500
TZOFFSETTO:-0600
TZNAME:CST
DTSTART:20271107T070000
END:STANDARD
END:VTIMEZONE
BEGIN:VEVENT
DTSTART;VALUE=DATE:20260328
DTEND;VALUE=DATE:20260329
DTSTAMP:20260421T071120
CREATED:20251216T192501Z
LAST-MODIFIED:20251216T193743Z
UID:10000803-1774656000-1774742399@ohmycupcakes.com
SUMMARY:Cinnamon Roll Saturdays
DESCRIPTION:Come in for a warm cinnamon roll\, or order a Cinnamon Roll Kit to take home.  \nOrder here: https://ohmycupcakes.com/shop/sweet-treats/at-home-cinnamon-roll-kit/
URL:https://ohmycupcakes.com/event/cinnamon-roll-saturdays/2026-03-28/
END:VEVENT
BEGIN:VEVENT
DTSTART;VALUE=DATE:20260328
DTEND;VALUE=DATE:20260329
DTSTAMP:20260421T071120
CREATED:20260316T203631Z
LAST-MODIFIED:20260316T203631Z
UID:10001129-1774656000-1774742399@ohmycupcakes.com
SUMMARY:Easter Eggstravaganza! at the Bridges
DESCRIPTION:Join us Saturday\, March 28th for an Easter egg hunt at participating Bridges stores! Eggs will be hidden inside participating stores (Oh My Cupcakes! included) for customers to find throughout the day. Eggs are filled with extra discounts or gift cards! \nYou are welcome to hunt any participating store\, but one egg per store per customer please! \nWe will also have additional sales in our store\, which include the following: \n\n20% off merchandise\, including items from Sweet Cream Candle Co.\nBuy 10 standard cupcake tokens\, get 2 free!\n\nParticipating Stores for the Easter Egg Hunt: \n\nOh My Cupcakes!\nShop Dog\nChild’s Play Toys\nEgg On A Roll\nQueen City Balloons\nRUST & Co.\nScooter’s Coffee\nShoe Diva\nYou’ve Been Framed\n\n 
URL:https://ohmycupcakes.com/event/easter-eggstravaganza-at-the-bridges/
LOCATION:Oh My Cupcakes! at the Bridges\, 5015 S. Western Ave.\, Unit 290\, Sioux Falls\, SD\, 57108\, United States
ATTACH;FMTTYPE=image/jpeg:https://ohmycupcakes.com/wp-content/uploads/2026/03/Easter-Eggstravaganza-at-the-Bridges-2.jpg
ORGANIZER;CN="Oh My Cupcakes!":MAILTO:info@ohmycupcakes.com
END:VEVENT
END:VCALENDAR