BEGIN:VCALENDAR
VERSION:2.0
PRODID:-//Oh My Cupcakes! - ECPv6.15.18//NONSGML v1.0//EN
CALSCALE:GREGORIAN
METHOD:PUBLISH
X-WR-CALNAME:Oh My Cupcakes!
X-ORIGINAL-URL:https://ohmycupcakes.com
X-WR-CALDESC:Events for Oh My Cupcakes!
REFRESH-INTERVAL;VALUE=DURATION:PT1H
X-Robots-Tag:noindex
X-PUBLISHED-TTL:PT1H
BEGIN:VTIMEZONE
TZID:America/Chicago
BEGIN:DAYLIGHT
TZOFFSETFROM:-0600
TZOFFSETTO:-0500
TZNAME:CDT
DTSTART:20240310T080000
END:DAYLIGHT
BEGIN:STANDARD
TZOFFSETFROM:-0500
TZOFFSETTO:-0600
TZNAME:CST
DTSTART:20241103T070000
END:STANDARD
BEGIN:DAYLIGHT
TZOFFSETFROM:-0600
TZOFFSETTO:-0500
TZNAME:CDT
DTSTART:20250309T080000
END:DAYLIGHT
BEGIN:STANDARD
TZOFFSETFROM:-0500
TZOFFSETTO:-0600
TZNAME:CST
DTSTART:20251102T070000
END:STANDARD
BEGIN:DAYLIGHT
TZOFFSETFROM:-0600
TZOFFSETTO:-0500
TZNAME:CDT
DTSTART:20260308T080000
END:DAYLIGHT
BEGIN:STANDARD
TZOFFSETFROM:-0500
TZOFFSETTO:-0600
TZNAME:CST
DTSTART:20261101T070000
END:STANDARD
BEGIN:DAYLIGHT
TZOFFSETFROM:-0600
TZOFFSETTO:-0500
TZNAME:CDT
DTSTART:20270314T080000
END:DAYLIGHT
BEGIN:STANDARD
TZOFFSETFROM:-0500
TZOFFSETTO:-0600
TZNAME:CST
DTSTART:20271107T070000
END:STANDARD
END:VTIMEZONE
BEGIN:VEVENT
DTSTART;VALUE=DATE:20260209
DTEND;VALUE=DATE:20260210
DTSTAMP:20260421T073014
CREATED:20251216T191824Z
LAST-MODIFIED:20260131T175436Z
UID:10000013-1770595200-1770681599@ohmycupcakes.com
SUMMARY:Mobile Mondays: Free Local Delivery all day!
DESCRIPTION:Take advantage of Free Local Delivery all day on Mondays!
URL:https://ohmycupcakes.com/event/mobile-mondays-free-local-delivery-all-day/2026-02-09/
END:VEVENT
BEGIN:VEVENT
DTSTART;TZID=America/Chicago:20260207T140000
DTEND;TZID=America/Chicago:20260207T153000
DTSTAMP:20260421T073014
CREATED:20260118T220112Z
LAST-MODIFIED:20260121T203915Z
UID:10001115-1770472800-1770478200@ohmycupcakes.com
SUMMARY:Once Upon a Tea Party
DESCRIPTION:Once Upon a Tea Party\nPinkies up! Step into a storybook afternoon at Once Upon a Tea Party\, a whimsical high tea experience designed for little ones and the grown-ups who love them. It’s hosted as a sweet collaboration with Chef Jeni at Oh My Cupcakes! beautiful Bridges location. \nThis enchanting event invites one “big” and one “little” guest to enjoy a beautifully styled tea party together\, complete with a tiered tower of high tea treats. You’ll enjoy fancy finger sandwiches\, scones\, macarons\, mini cupcakes\, and other delightful bites\, all paired with sweet sips and blossoming tea in our famous Little Pink Tea Set. \nDress up is encouraged\, dolls are welcome\, and imagination is part of the fun. \nWhile this is a relaxed\, memory-making experience\, we’ll also include a few gentle touches to make it extra special: \n\nA fun little cookie decorating moment\nA small craft or coloring activity for little hands\nA backdrop perfect for photo ops\n\nWhat’s Included: \n\nAdmission to high tea event for one big + one little\nTiered tower of sweet and savory treats\nBlossoming Tea and sweet sips\nA small decorating and craft activity\nPhoto moment keepsake opportunity\n\nTickets: One Big + One Little: $49\nLimited seating available \nBring your favorite little one and enjoy an afternoon where cupcakes\, teacups\, and fairy-tale moments come together. Enjoy your time to sit\, sip\, and enjoy! \n2.7.26 Once Upon a Tea Party – Event Ticket – Oh My Cupcakes!
URL:https://ohmycupcakes.com/event/once-upon-a-tea-party/
ATTACH;FMTTYPE=image/jpeg:https://ohmycupcakes.com/wp-content/uploads/2026/01/Once_Upon_a_Tea_Party_regular_SOLD_OUT.jpg
END:VEVENT
BEGIN:VEVENT
DTSTART;TZID=America/Chicago:20260207T110000
DTEND;TZID=America/Chicago:20260207T130000
DTSTAMP:20260421T073014
CREATED:20260118T215100Z
LAST-MODIFIED:20260131T174936Z
UID:10001114-1770462000-1770469200@ohmycupcakes.com
SUMMARY:Frosted & Fabulous
DESCRIPTION:Frosted and Fabulous:\nA Galentine’s Brunch Experience with Chef Jeni and Oh My Cupcakes!\nWho says you need a Valentine when you have a fabulous group of friends? Join us for Frosted & Fabulous\, a Galentine’s brunch hosted by Chef Jeni and Oh My Cupcakes! It’s been specially designed for laughter\, creativity\, and celebrating the women you love most; including yourself! \nThis upbeat experience includes bougie\, brunchie breakfast bites\, decorating four cupcakes\, and sipping on a signature mocktail or cocktail. You’ll also be treated to flowers (because yes\, you can absolutely buy yourself flowers) and a signature\, Sweet Cream Candle gift to take home. \nThis is more than a class. It’s a gathering with friends. A gathering with joy. A chance to connect\, create\, and indulge with your girl gang in a fun\, feel-good setting. You’ve asked for it\, and it’s here! \nWhen: February 7\, 11:00 am \nWhere: Oh My Cupcakes! Bridges location \nWho: YOU! And your best girl-gang babes \nHow: Tickets are limited. Grab your event pass for just $65 per person. \n2.7.26 Frosted and Fabulous – Event Ticket – Oh My Cupcakes! \n 
URL:https://ohmycupcakes.com/event/frosted-fabulous/
LOCATION:Oh My Cupcakes! at the Bridges\, 5015 S. Western Ave.\, Unit 290\, Sioux Falls\, SD\, 57108\, United States
ATTACH;FMTTYPE=image/png:https://ohmycupcakes.com/wp-content/uploads/2026/01/Frosted-Fabulous-Event-Photo-Website-2.png
END:VEVENT
BEGIN:VEVENT
DTSTART;VALUE=DATE:20260207
DTEND;VALUE=DATE:20260208
DTSTAMP:20260421T073014
CREATED:20251216T192501Z
LAST-MODIFIED:20251216T193743Z
UID:10000796-1770422400-1770508799@ohmycupcakes.com
SUMMARY:Cinnamon Roll Saturdays
DESCRIPTION:Come in for a warm cinnamon roll\, or order a Cinnamon Roll Kit to take home.  \nOrder here: https://ohmycupcakes.com/shop/sweet-treats/at-home-cinnamon-roll-kit/
URL:https://ohmycupcakes.com/event/cinnamon-roll-saturdays/2026-02-07/
END:VEVENT
BEGIN:VEVENT
DTSTART;VALUE=DATE:20260205
DTEND;VALUE=DATE:20260206
DTSTAMP:20260421T073014
CREATED:20251216T192349Z
LAST-MODIFIED:20251216T193626Z
UID:10000535-1770249600-1770335999@ohmycupcakes.com
SUMMARY:Lunch Date! Get 20% off lunch at the Bridges.
DESCRIPTION:Stop in every Thursday for a Lunch Date! Get 20% off lunch at the Bridges.
URL:https://ohmycupcakes.com/event/lunch-date-get-20-off-lunch-at-the-bridges/2026-02-05/
END:VEVENT
BEGIN:VEVENT
DTSTART;VALUE=DATE:20260202
DTEND;VALUE=DATE:20260203
DTSTAMP:20260421T073014
CREATED:20251216T191824Z
LAST-MODIFIED:20260131T175436Z
UID:10000012-1769990400-1770076799@ohmycupcakes.com
SUMMARY:Mobile Mondays: Free Local Delivery all day!
DESCRIPTION:Take advantage of Free Local Delivery all day on Mondays!
URL:https://ohmycupcakes.com/event/mobile-mondays-free-local-delivery-all-day/2026-02-02/
END:VEVENT
BEGIN:VEVENT
DTSTART;VALUE=DATE:20260131
DTEND;VALUE=DATE:20260201
DTSTAMP:20260421T073014
CREATED:20251216T192501Z
LAST-MODIFIED:20251216T193743Z
UID:10000795-1769817600-1769903999@ohmycupcakes.com
SUMMARY:Cinnamon Roll Saturdays
DESCRIPTION:Come in for a warm cinnamon roll\, or order a Cinnamon Roll Kit to take home.  \nOrder here: https://ohmycupcakes.com/shop/sweet-treats/at-home-cinnamon-roll-kit/
URL:https://ohmycupcakes.com/event/cinnamon-roll-saturdays/2026-01-31/
END:VEVENT
BEGIN:VEVENT
DTSTART;VALUE=DATE:20260129
DTEND;VALUE=DATE:20260130
DTSTAMP:20260421T073014
CREATED:20251216T192349Z
LAST-MODIFIED:20251216T193626Z
UID:10000534-1769644800-1769731199@ohmycupcakes.com
SUMMARY:Lunch Date! Get 20% off lunch at the Bridges.
DESCRIPTION:Stop in every Thursday for a Lunch Date! Get 20% off lunch at the Bridges.
URL:https://ohmycupcakes.com/event/lunch-date-get-20-off-lunch-at-the-bridges/2026-01-29/
END:VEVENT
BEGIN:VEVENT
DTSTART;VALUE=DATE:20260126
DTEND;VALUE=DATE:20260127
DTSTAMP:20260421T073014
CREATED:20251216T191824Z
LAST-MODIFIED:20260131T175436Z
UID:10000011-1769385600-1769471999@ohmycupcakes.com
SUMMARY:Mobile Mondays: Free Local Delivery all day!
DESCRIPTION:Take advantage of Free Local Delivery all day on Mondays!
URL:https://ohmycupcakes.com/event/mobile-mondays-free-local-delivery-all-day/2026-01-26/
END:VEVENT
BEGIN:VEVENT
DTSTART;VALUE=DATE:20260124
DTEND;VALUE=DATE:20260125
DTSTAMP:20260421T073014
CREATED:20251216T192501Z
LAST-MODIFIED:20251216T193743Z
UID:10000794-1769212800-1769299199@ohmycupcakes.com
SUMMARY:Cinnamon Roll Saturdays
DESCRIPTION:Come in for a warm cinnamon roll\, or order a Cinnamon Roll Kit to take home.  \nOrder here: https://ohmycupcakes.com/shop/sweet-treats/at-home-cinnamon-roll-kit/
URL:https://ohmycupcakes.com/event/cinnamon-roll-saturdays/2026-01-24/
END:VEVENT
BEGIN:VEVENT
DTSTART;VALUE=DATE:20260122
DTEND;VALUE=DATE:20260123
DTSTAMP:20260421T073014
CREATED:20251216T192349Z
LAST-MODIFIED:20251216T193626Z
UID:10000533-1769040000-1769126399@ohmycupcakes.com
SUMMARY:Lunch Date! Get 20% off lunch at the Bridges.
DESCRIPTION:Stop in every Thursday for a Lunch Date! Get 20% off lunch at the Bridges.
URL:https://ohmycupcakes.com/event/lunch-date-get-20-off-lunch-at-the-bridges/2026-01-22/
END:VEVENT
BEGIN:VEVENT
DTSTART;VALUE=DATE:20260119
DTEND;VALUE=DATE:20260120
DTSTAMP:20260421T073014
CREATED:20251216T191824Z
LAST-MODIFIED:20260131T175436Z
UID:10000010-1768780800-1768867199@ohmycupcakes.com
SUMMARY:Mobile Mondays: Free Local Delivery all day!
DESCRIPTION:Take advantage of Free Local Delivery all day on Mondays!
URL:https://ohmycupcakes.com/event/mobile-mondays-free-local-delivery-all-day/2026-01-19/
END:VEVENT
BEGIN:VEVENT
DTSTART;VALUE=DATE:20260117
DTEND;VALUE=DATE:20260118
DTSTAMP:20260421T073014
CREATED:20251216T192501Z
LAST-MODIFIED:20251216T193743Z
UID:10000793-1768608000-1768694399@ohmycupcakes.com
SUMMARY:Cinnamon Roll Saturdays
DESCRIPTION:Come in for a warm cinnamon roll\, or order a Cinnamon Roll Kit to take home.  \nOrder here: https://ohmycupcakes.com/shop/sweet-treats/at-home-cinnamon-roll-kit/
URL:https://ohmycupcakes.com/event/cinnamon-roll-saturdays/2026-01-17/
END:VEVENT
BEGIN:VEVENT
DTSTART;VALUE=DATE:20260115
DTEND;VALUE=DATE:20260116
DTSTAMP:20260421T073014
CREATED:20251216T192349Z
LAST-MODIFIED:20251216T193626Z
UID:10000532-1768435200-1768521599@ohmycupcakes.com
SUMMARY:Lunch Date! Get 20% off lunch at the Bridges.
DESCRIPTION:Stop in every Thursday for a Lunch Date! Get 20% off lunch at the Bridges.
URL:https://ohmycupcakes.com/event/lunch-date-get-20-off-lunch-at-the-bridges/2026-01-15/
END:VEVENT
BEGIN:VEVENT
DTSTART;VALUE=DATE:20260112
DTEND;VALUE=DATE:20260113
DTSTAMP:20260421T073014
CREATED:20251216T191824Z
LAST-MODIFIED:20260131T175436Z
UID:10000009-1768176000-1768262399@ohmycupcakes.com
SUMMARY:Mobile Mondays: Free Local Delivery all day!
DESCRIPTION:Take advantage of Free Local Delivery all day on Mondays!
URL:https://ohmycupcakes.com/event/mobile-mondays-free-local-delivery-all-day/2026-01-12/
END:VEVENT
BEGIN:VEVENT
DTSTART;VALUE=DATE:20260110
DTEND;VALUE=DATE:20260111
DTSTAMP:20260421T073014
CREATED:20251216T192501Z
LAST-MODIFIED:20251216T193743Z
UID:10000792-1768003200-1768089599@ohmycupcakes.com
SUMMARY:Cinnamon Roll Saturdays
DESCRIPTION:Come in for a warm cinnamon roll\, or order a Cinnamon Roll Kit to take home.  \nOrder here: https://ohmycupcakes.com/shop/sweet-treats/at-home-cinnamon-roll-kit/
URL:https://ohmycupcakes.com/event/cinnamon-roll-saturdays/2026-01-10/
END:VEVENT
BEGIN:VEVENT
DTSTART;VALUE=DATE:20260109
DTEND;VALUE=DATE:20260110
DTSTAMP:20260421T073014
CREATED:20251216T192703Z
LAST-MODIFIED:20251216T192703Z
UID:10001050-1767916800-1768003199@ohmycupcakes.com
SUMMARY:Li’l Sprinkles Day
DESCRIPTION:Li’l Sprinkles Day is the 2nd Friday of every month. Families get 20% off when you dine in. We will have a kids’ themed story time at 10 am.
URL:https://ohmycupcakes.com/event/lil-sprinkles-day/2026-01-09/
END:VEVENT
BEGIN:VEVENT
DTSTART;VALUE=DATE:20260108
DTEND;VALUE=DATE:20260109
DTSTAMP:20260421T073014
CREATED:20251216T192349Z
LAST-MODIFIED:20251216T193626Z
UID:10000531-1767830400-1767916799@ohmycupcakes.com
SUMMARY:Lunch Date! Get 20% off lunch at the Bridges.
DESCRIPTION:Stop in every Thursday for a Lunch Date! Get 20% off lunch at the Bridges.
URL:https://ohmycupcakes.com/event/lunch-date-get-20-off-lunch-at-the-bridges/2026-01-08/
END:VEVENT
BEGIN:VEVENT
DTSTART;VALUE=DATE:20260105
DTEND;VALUE=DATE:20260106
DTSTAMP:20260421T073014
CREATED:20251216T191824Z
LAST-MODIFIED:20260131T175436Z
UID:10000008-1767571200-1767657599@ohmycupcakes.com
SUMMARY:Mobile Mondays: Free Local Delivery all day!
DESCRIPTION:Take advantage of Free Local Delivery all day on Mondays!
URL:https://ohmycupcakes.com/event/mobile-mondays-free-local-delivery-all-day/2026-01-05/
END:VEVENT
BEGIN:VEVENT
DTSTART;VALUE=DATE:20260103
DTEND;VALUE=DATE:20260104
DTSTAMP:20260421T073014
CREATED:20251216T192501Z
LAST-MODIFIED:20251216T193743Z
UID:10000791-1767398400-1767484799@ohmycupcakes.com
SUMMARY:Cinnamon Roll Saturdays
DESCRIPTION:Come in for a warm cinnamon roll\, or order a Cinnamon Roll Kit to take home.  \nOrder here: https://ohmycupcakes.com/shop/sweet-treats/at-home-cinnamon-roll-kit/
URL:https://ohmycupcakes.com/event/cinnamon-roll-saturdays/2026-01-03/
END:VEVENT
BEGIN:VEVENT
DTSTART;TZID=America/Chicago:20251231T140000
DTEND;TZID=America/Chicago:20251231T173000
DTSTAMP:20260421T073014
CREATED:20251216T190810Z
LAST-MODIFIED:20251216T192840Z
UID:10000004-1767189600-1767202200@ohmycupcakes.com
SUMMARY:December 31st - Early Closing
DESCRIPTION:On December 31st\, we will be closing at 2 pm for New Year’s Eve.
URL:https://ohmycupcakes.com/event/december-31st-early-closing/
END:VEVENT
BEGIN:VEVENT
DTSTART;VALUE=DATE:20251229
DTEND;VALUE=DATE:20251230
DTSTAMP:20260421T073014
CREATED:20251216T191824Z
LAST-MODIFIED:20260131T175436Z
UID:10000007-1766966400-1767052799@ohmycupcakes.com
SUMMARY:Mobile Mondays: Free Local Delivery all day!
DESCRIPTION:Take advantage of Free Local Delivery all day on Mondays!
URL:https://ohmycupcakes.com/event/mobile-mondays-free-local-delivery-all-day/2025-12-29/
END:VEVENT
BEGIN:VEVENT
DTSTART;VALUE=DATE:20251225
DTEND;VALUE=DATE:20251229
DTSTAMP:20260421T073014
CREATED:20251216T190634Z
LAST-MODIFIED:20251216T190634Z
UID:10000003-1766620800-1766966399@ohmycupcakes.com
SUMMARY:Holly Jolly Holiday Break
DESCRIPTION:From December 25th-28th\, we will be closed for our Holly Jolly Holiday Break.
URL:https://ohmycupcakes.com/event/holly-jolly-holiday-break/
END:VEVENT
BEGIN:VEVENT
DTSTART;TZID=America/Chicago:20251224T140000
DTEND;TZID=America/Chicago:20251224T173000
DTSTAMP:20260421T073014
CREATED:20251216T190423Z
LAST-MODIFIED:20251216T192847Z
UID:10000002-1766584800-1766597400@ohmycupcakes.com
SUMMARY:December 24th - Early Closing
DESCRIPTION:On December 24th\, we will be closing early at 2:00 pm.
URL:https://ohmycupcakes.com/event/december-24th-early-closing/
END:VEVENT
BEGIN:VEVENT
DTSTART;VALUE=DATE:20251222
DTEND;VALUE=DATE:20251223
DTSTAMP:20260421T073014
CREATED:20251216T191824Z
LAST-MODIFIED:20260131T175436Z
UID:10000006-1766361600-1766447999@ohmycupcakes.com
SUMMARY:Mobile Mondays: Free Local Delivery all day!
DESCRIPTION:Take advantage of Free Local Delivery all day on Mondays!
URL:https://ohmycupcakes.com/event/mobile-mondays-free-local-delivery-all-day/2025-12-22/
END:VEVENT
BEGIN:VEVENT
DTSTART;VALUE=DATE:20251220
DTEND;VALUE=DATE:20251221
DTSTAMP:20260421T073014
CREATED:20251216T192501Z
LAST-MODIFIED:20251216T193743Z
UID:10000789-1766188800-1766275199@ohmycupcakes.com
SUMMARY:Cinnamon Roll Saturdays
DESCRIPTION:Come in for a warm cinnamon roll\, or order a Cinnamon Roll Kit to take home.  \nOrder here: https://ohmycupcakes.com/shop/sweet-treats/at-home-cinnamon-roll-kit/
URL:https://ohmycupcakes.com/event/cinnamon-roll-saturdays/2025-12-20/
END:VEVENT
BEGIN:VEVENT
DTSTART;VALUE=DATE:20251218
DTEND;VALUE=DATE:20251219
DTSTAMP:20260421T073014
CREATED:20251216T192349Z
LAST-MODIFIED:20251216T193626Z
UID:10000528-1766016000-1766102399@ohmycupcakes.com
SUMMARY:Lunch Date! Get 20% off lunch at the Bridges.
DESCRIPTION:Stop in every Thursday for a Lunch Date! Get 20% off lunch at the Bridges.
URL:https://ohmycupcakes.com/event/lunch-date-get-20-off-lunch-at-the-bridges/2025-12-18/
END:VEVENT
BEGIN:VEVENT
DTSTART;TZID=America/Chicago:20251215T150000
DTEND;TZID=America/Chicago:20251215T170000
DTSTAMP:20260421T073014
CREATED:20251211T225640Z
LAST-MODIFIED:20251215T192507Z
UID:10000001-1765810800-1765818000@ohmycupcakes.com
SUMMARY:National Cupcake Day
DESCRIPTION:We are celebrating by painting canvases with The Wildflower Den from 3-5 pm.  \nLearn  more here: https://www.facebook.com/events/853169803751738
URL:https://ohmycupcakes.com/event/national-cupcake-day/
ATTACH;FMTTYPE=image/jpeg:https://ohmycupcakes.com/wp-content/uploads/2025/12/Nat-Cupcake-Day.jpg
END:VEVENT
END:VCALENDAR