BEGIN:VCALENDAR
VERSION:2.0
PRODID:-//Oh My Cupcakes! - ECPv6.15.18//NONSGML v1.0//EN
CALSCALE:GREGORIAN
METHOD:PUBLISH
X-WR-CALNAME:Oh My Cupcakes!
X-ORIGINAL-URL:https://ohmycupcakes.com
X-WR-CALDESC:Events for Oh My Cupcakes!
REFRESH-INTERVAL;VALUE=DURATION:PT1H
X-Robots-Tag:noindex
X-PUBLISHED-TTL:PT1H
BEGIN:VTIMEZONE
TZID:America/Chicago
BEGIN:DAYLIGHT
TZOFFSETFROM:-0600
TZOFFSETTO:-0500
TZNAME:CDT
DTSTART:20250309T080000
END:DAYLIGHT
BEGIN:STANDARD
TZOFFSETFROM:-0500
TZOFFSETTO:-0600
TZNAME:CST
DTSTART:20251102T070000
END:STANDARD
BEGIN:DAYLIGHT
TZOFFSETFROM:-0600
TZOFFSETTO:-0500
TZNAME:CDT
DTSTART:20260308T080000
END:DAYLIGHT
BEGIN:STANDARD
TZOFFSETFROM:-0500
TZOFFSETTO:-0600
TZNAME:CST
DTSTART:20261101T070000
END:STANDARD
BEGIN:DAYLIGHT
TZOFFSETFROM:-0600
TZOFFSETTO:-0500
TZNAME:CDT
DTSTART:20270314T080000
END:DAYLIGHT
BEGIN:STANDARD
TZOFFSETFROM:-0500
TZOFFSETTO:-0600
TZNAME:CST
DTSTART:20271107T070000
END:STANDARD
BEGIN:DAYLIGHT
TZOFFSETFROM:-0600
TZOFFSETTO:-0500
TZNAME:CDT
DTSTART:20280312T080000
END:DAYLIGHT
BEGIN:STANDARD
TZOFFSETFROM:-0500
TZOFFSETTO:-0600
TZNAME:CST
DTSTART:20281105T070000
END:STANDARD
END:VTIMEZONE
BEGIN:VEVENT
DTSTART;VALUE=DATE:20261221
DTEND;VALUE=DATE:20261222
DTSTAMP:20260422T024242
CREATED:20251216T191824Z
LAST-MODIFIED:20260131T175436Z
UID:10000058-1797811200-1797897599@ohmycupcakes.com
SUMMARY:Mobile Mondays: Free Local Delivery all day!
DESCRIPTION:Take advantage of Free Local Delivery all day on Mondays!
URL:https://ohmycupcakes.com/event/mobile-mondays-free-local-delivery-all-day/2026-12-21/
END:VEVENT
BEGIN:VEVENT
DTSTART;VALUE=DATE:20261224
DTEND;VALUE=DATE:20261225
DTSTAMP:20260422T024242
CREATED:20251216T192349Z
LAST-MODIFIED:20251216T193626Z
UID:10000581-1798070400-1798156799@ohmycupcakes.com
SUMMARY:Lunch Date! Get 20% off lunch at the Bridges.
DESCRIPTION:Stop in every Thursday for a Lunch Date! Get 20% off lunch at the Bridges.
URL:https://ohmycupcakes.com/event/lunch-date-get-20-off-lunch-at-the-bridges/2026-12-24/
END:VEVENT
BEGIN:VEVENT
DTSTART;VALUE=DATE:20261226
DTEND;VALUE=DATE:20261227
DTSTAMP:20260422T024242
CREATED:20251216T192501Z
LAST-MODIFIED:20251216T193743Z
UID:10000842-1798243200-1798329599@ohmycupcakes.com
SUMMARY:Cinnamon Roll Saturdays
DESCRIPTION:Come in for a warm cinnamon roll\, or order a Cinnamon Roll Kit to take home.  \nOrder here: https://ohmycupcakes.com/shop/sweet-treats/at-home-cinnamon-roll-kit/
URL:https://ohmycupcakes.com/event/cinnamon-roll-saturdays/2026-12-26/
END:VEVENT
BEGIN:VEVENT
DTSTART;VALUE=DATE:20261228
DTEND;VALUE=DATE:20261229
DTSTAMP:20260422T024242
CREATED:20251216T191824Z
LAST-MODIFIED:20260131T175436Z
UID:10000059-1798416000-1798502399@ohmycupcakes.com
SUMMARY:Mobile Mondays: Free Local Delivery all day!
DESCRIPTION:Take advantage of Free Local Delivery all day on Mondays!
URL:https://ohmycupcakes.com/event/mobile-mondays-free-local-delivery-all-day/2026-12-28/
END:VEVENT
BEGIN:VEVENT
DTSTART;VALUE=DATE:20261231
DTEND;VALUE=DATE:20270101
DTSTAMP:20260422T024242
CREATED:20251216T192349Z
LAST-MODIFIED:20251216T193626Z
UID:10000582-1798675200-1798761599@ohmycupcakes.com
SUMMARY:Lunch Date! Get 20% off lunch at the Bridges.
DESCRIPTION:Stop in every Thursday for a Lunch Date! Get 20% off lunch at the Bridges.
URL:https://ohmycupcakes.com/event/lunch-date-get-20-off-lunch-at-the-bridges/2026-12-31/
END:VEVENT
BEGIN:VEVENT
DTSTART;VALUE=DATE:20270102
DTEND;VALUE=DATE:20270103
DTSTAMP:20260422T024242
CREATED:20251216T192501Z
LAST-MODIFIED:20251216T193743Z
UID:10000843-1798848000-1798934399@ohmycupcakes.com
SUMMARY:Cinnamon Roll Saturdays
DESCRIPTION:Come in for a warm cinnamon roll\, or order a Cinnamon Roll Kit to take home.  \nOrder here: https://ohmycupcakes.com/shop/sweet-treats/at-home-cinnamon-roll-kit/
URL:https://ohmycupcakes.com/event/cinnamon-roll-saturdays/2027-01-02/
END:VEVENT
BEGIN:VEVENT
DTSTART;VALUE=DATE:20270104
DTEND;VALUE=DATE:20270105
DTSTAMP:20260422T024242
CREATED:20251216T191824Z
LAST-MODIFIED:20260131T175436Z
UID:10000060-1799020800-1799107199@ohmycupcakes.com
SUMMARY:Mobile Mondays: Free Local Delivery all day!
DESCRIPTION:Take advantage of Free Local Delivery all day on Mondays!
URL:https://ohmycupcakes.com/event/mobile-mondays-free-local-delivery-all-day/2027-01-04/
END:VEVENT
BEGIN:VEVENT
DTSTART;VALUE=DATE:20270107
DTEND;VALUE=DATE:20270108
DTSTAMP:20260422T024242
CREATED:20251216T192349Z
LAST-MODIFIED:20251216T193626Z
UID:10000583-1799280000-1799366399@ohmycupcakes.com
SUMMARY:Lunch Date! Get 20% off lunch at the Bridges.
DESCRIPTION:Stop in every Thursday for a Lunch Date! Get 20% off lunch at the Bridges.
URL:https://ohmycupcakes.com/event/lunch-date-get-20-off-lunch-at-the-bridges/2027-01-07/
END:VEVENT
BEGIN:VEVENT
DTSTART;VALUE=DATE:20270108
DTEND;VALUE=DATE:20270109
DTSTAMP:20260422T024242
CREATED:20251216T192703Z
LAST-MODIFIED:20251216T192703Z
UID:10001062-1799366400-1799452799@ohmycupcakes.com
SUMMARY:Li’l Sprinkles Day
DESCRIPTION:Li’l Sprinkles Day is the 2nd Friday of every month. Families get 20% off when you dine in. We will have a kids’ themed story time at 10 am.
URL:https://ohmycupcakes.com/event/lil-sprinkles-day/2027-01-08/
END:VEVENT
BEGIN:VEVENT
DTSTART;VALUE=DATE:20270109
DTEND;VALUE=DATE:20270110
DTSTAMP:20260422T024242
CREATED:20251216T192501Z
LAST-MODIFIED:20251216T193743Z
UID:10000844-1799452800-1799539199@ohmycupcakes.com
SUMMARY:Cinnamon Roll Saturdays
DESCRIPTION:Come in for a warm cinnamon roll\, or order a Cinnamon Roll Kit to take home.  \nOrder here: https://ohmycupcakes.com/shop/sweet-treats/at-home-cinnamon-roll-kit/
URL:https://ohmycupcakes.com/event/cinnamon-roll-saturdays/2027-01-09/
END:VEVENT
BEGIN:VEVENT
DTSTART;VALUE=DATE:20270111
DTEND;VALUE=DATE:20270112
DTSTAMP:20260422T024242
CREATED:20251216T191824Z
LAST-MODIFIED:20260131T175436Z
UID:10000061-1799625600-1799711999@ohmycupcakes.com
SUMMARY:Mobile Mondays: Free Local Delivery all day!
DESCRIPTION:Take advantage of Free Local Delivery all day on Mondays!
URL:https://ohmycupcakes.com/event/mobile-mondays-free-local-delivery-all-day/2027-01-11/
END:VEVENT
BEGIN:VEVENT
DTSTART;VALUE=DATE:20270114
DTEND;VALUE=DATE:20270115
DTSTAMP:20260422T024242
CREATED:20251216T192349Z
LAST-MODIFIED:20251216T193626Z
UID:10000584-1799884800-1799971199@ohmycupcakes.com
SUMMARY:Lunch Date! Get 20% off lunch at the Bridges.
DESCRIPTION:Stop in every Thursday for a Lunch Date! Get 20% off lunch at the Bridges.
URL:https://ohmycupcakes.com/event/lunch-date-get-20-off-lunch-at-the-bridges/2027-01-14/
END:VEVENT
BEGIN:VEVENT
DTSTART;VALUE=DATE:20270116
DTEND;VALUE=DATE:20270117
DTSTAMP:20260422T024242
CREATED:20251216T192501Z
LAST-MODIFIED:20251216T193743Z
UID:10000845-1800057600-1800143999@ohmycupcakes.com
SUMMARY:Cinnamon Roll Saturdays
DESCRIPTION:Come in for a warm cinnamon roll\, or order a Cinnamon Roll Kit to take home.  \nOrder here: https://ohmycupcakes.com/shop/sweet-treats/at-home-cinnamon-roll-kit/
URL:https://ohmycupcakes.com/event/cinnamon-roll-saturdays/2027-01-16/
END:VEVENT
BEGIN:VEVENT
DTSTART;VALUE=DATE:20270118
DTEND;VALUE=DATE:20270119
DTSTAMP:20260422T024242
CREATED:20251216T191824Z
LAST-MODIFIED:20260131T175436Z
UID:10000062-1800230400-1800316799@ohmycupcakes.com
SUMMARY:Mobile Mondays: Free Local Delivery all day!
DESCRIPTION:Take advantage of Free Local Delivery all day on Mondays!
URL:https://ohmycupcakes.com/event/mobile-mondays-free-local-delivery-all-day/2027-01-18/
END:VEVENT
BEGIN:VEVENT
DTSTART;VALUE=DATE:20270121
DTEND;VALUE=DATE:20270122
DTSTAMP:20260422T024242
CREATED:20251216T192349Z
LAST-MODIFIED:20251216T193626Z
UID:10000585-1800489600-1800575999@ohmycupcakes.com
SUMMARY:Lunch Date! Get 20% off lunch at the Bridges.
DESCRIPTION:Stop in every Thursday for a Lunch Date! Get 20% off lunch at the Bridges.
URL:https://ohmycupcakes.com/event/lunch-date-get-20-off-lunch-at-the-bridges/2027-01-21/
END:VEVENT
BEGIN:VEVENT
DTSTART;VALUE=DATE:20270123
DTEND;VALUE=DATE:20270124
DTSTAMP:20260422T024242
CREATED:20251216T192501Z
LAST-MODIFIED:20251216T193743Z
UID:10000846-1800662400-1800748799@ohmycupcakes.com
SUMMARY:Cinnamon Roll Saturdays
DESCRIPTION:Come in for a warm cinnamon roll\, or order a Cinnamon Roll Kit to take home.  \nOrder here: https://ohmycupcakes.com/shop/sweet-treats/at-home-cinnamon-roll-kit/
URL:https://ohmycupcakes.com/event/cinnamon-roll-saturdays/2027-01-23/
END:VEVENT
BEGIN:VEVENT
DTSTART;VALUE=DATE:20270125
DTEND;VALUE=DATE:20270126
DTSTAMP:20260422T024242
CREATED:20251216T191824Z
LAST-MODIFIED:20260131T175436Z
UID:10000063-1800835200-1800921599@ohmycupcakes.com
SUMMARY:Mobile Mondays: Free Local Delivery all day!
DESCRIPTION:Take advantage of Free Local Delivery all day on Mondays!
URL:https://ohmycupcakes.com/event/mobile-mondays-free-local-delivery-all-day/2027-01-25/
END:VEVENT
BEGIN:VEVENT
DTSTART;VALUE=DATE:20270128
DTEND;VALUE=DATE:20270129
DTSTAMP:20260422T024242
CREATED:20251216T192349Z
LAST-MODIFIED:20251216T193626Z
UID:10000586-1801094400-1801180799@ohmycupcakes.com
SUMMARY:Lunch Date! Get 20% off lunch at the Bridges.
DESCRIPTION:Stop in every Thursday for a Lunch Date! Get 20% off lunch at the Bridges.
URL:https://ohmycupcakes.com/event/lunch-date-get-20-off-lunch-at-the-bridges/2027-01-28/
END:VEVENT
BEGIN:VEVENT
DTSTART;VALUE=DATE:20270130
DTEND;VALUE=DATE:20270131
DTSTAMP:20260422T024242
CREATED:20251216T192501Z
LAST-MODIFIED:20251216T193743Z
UID:10000847-1801267200-1801353599@ohmycupcakes.com
SUMMARY:Cinnamon Roll Saturdays
DESCRIPTION:Come in for a warm cinnamon roll\, or order a Cinnamon Roll Kit to take home.  \nOrder here: https://ohmycupcakes.com/shop/sweet-treats/at-home-cinnamon-roll-kit/
URL:https://ohmycupcakes.com/event/cinnamon-roll-saturdays/2027-01-30/
END:VEVENT
BEGIN:VEVENT
DTSTART;VALUE=DATE:20270201
DTEND;VALUE=DATE:20270202
DTSTAMP:20260422T024242
CREATED:20251216T191824Z
LAST-MODIFIED:20260131T175436Z
UID:10000064-1801440000-1801526399@ohmycupcakes.com
SUMMARY:Mobile Mondays: Free Local Delivery all day!
DESCRIPTION:Take advantage of Free Local Delivery all day on Mondays!
URL:https://ohmycupcakes.com/event/mobile-mondays-free-local-delivery-all-day/2027-02-01/
END:VEVENT
BEGIN:VEVENT
DTSTART;VALUE=DATE:20270204
DTEND;VALUE=DATE:20270205
DTSTAMP:20260422T024242
CREATED:20251216T192349Z
LAST-MODIFIED:20251216T193626Z
UID:10000587-1801699200-1801785599@ohmycupcakes.com
SUMMARY:Lunch Date! Get 20% off lunch at the Bridges.
DESCRIPTION:Stop in every Thursday for a Lunch Date! Get 20% off lunch at the Bridges.
URL:https://ohmycupcakes.com/event/lunch-date-get-20-off-lunch-at-the-bridges/2027-02-04/
END:VEVENT
BEGIN:VEVENT
DTSTART;VALUE=DATE:20270206
DTEND;VALUE=DATE:20270207
DTSTAMP:20260422T024242
CREATED:20251216T192501Z
LAST-MODIFIED:20251216T193743Z
UID:10000848-1801872000-1801958399@ohmycupcakes.com
SUMMARY:Cinnamon Roll Saturdays
DESCRIPTION:Come in for a warm cinnamon roll\, or order a Cinnamon Roll Kit to take home.  \nOrder here: https://ohmycupcakes.com/shop/sweet-treats/at-home-cinnamon-roll-kit/
URL:https://ohmycupcakes.com/event/cinnamon-roll-saturdays/2027-02-06/
END:VEVENT
BEGIN:VEVENT
DTSTART;VALUE=DATE:20270208
DTEND;VALUE=DATE:20270209
DTSTAMP:20260422T024242
CREATED:20251216T191824Z
LAST-MODIFIED:20260131T175436Z
UID:10000065-1802044800-1802131199@ohmycupcakes.com
SUMMARY:Mobile Mondays: Free Local Delivery all day!
DESCRIPTION:Take advantage of Free Local Delivery all day on Mondays!
URL:https://ohmycupcakes.com/event/mobile-mondays-free-local-delivery-all-day/2027-02-08/
END:VEVENT
BEGIN:VEVENT
DTSTART;VALUE=DATE:20270211
DTEND;VALUE=DATE:20270212
DTSTAMP:20260422T024242
CREATED:20251216T192349Z
LAST-MODIFIED:20251216T193626Z
UID:10000588-1802304000-1802390399@ohmycupcakes.com
SUMMARY:Lunch Date! Get 20% off lunch at the Bridges.
DESCRIPTION:Stop in every Thursday for a Lunch Date! Get 20% off lunch at the Bridges.
URL:https://ohmycupcakes.com/event/lunch-date-get-20-off-lunch-at-the-bridges/2027-02-11/
END:VEVENT
BEGIN:VEVENT
DTSTART;VALUE=DATE:20270212
DTEND;VALUE=DATE:20270213
DTSTAMP:20260422T024242
CREATED:20251216T192703Z
LAST-MODIFIED:20251216T192703Z
UID:10001063-1802390400-1802476799@ohmycupcakes.com
SUMMARY:Li’l Sprinkles Day
DESCRIPTION:Li’l Sprinkles Day is the 2nd Friday of every month. Families get 20% off when you dine in. We will have a kids’ themed story time at 10 am.
URL:https://ohmycupcakes.com/event/lil-sprinkles-day/2027-02-12/
END:VEVENT
BEGIN:VEVENT
DTSTART;VALUE=DATE:20270213
DTEND;VALUE=DATE:20270214
DTSTAMP:20260422T024242
CREATED:20251216T192501Z
LAST-MODIFIED:20251216T193743Z
UID:10000849-1802476800-1802563199@ohmycupcakes.com
SUMMARY:Cinnamon Roll Saturdays
DESCRIPTION:Come in for a warm cinnamon roll\, or order a Cinnamon Roll Kit to take home.  \nOrder here: https://ohmycupcakes.com/shop/sweet-treats/at-home-cinnamon-roll-kit/
URL:https://ohmycupcakes.com/event/cinnamon-roll-saturdays/2027-02-13/
END:VEVENT
BEGIN:VEVENT
DTSTART;VALUE=DATE:20270215
DTEND;VALUE=DATE:20270216
DTSTAMP:20260422T024242
CREATED:20251216T191824Z
LAST-MODIFIED:20260131T175436Z
UID:10000066-1802649600-1802735999@ohmycupcakes.com
SUMMARY:Mobile Mondays: Free Local Delivery all day!
DESCRIPTION:Take advantage of Free Local Delivery all day on Mondays!
URL:https://ohmycupcakes.com/event/mobile-mondays-free-local-delivery-all-day/2027-02-15/
END:VEVENT
BEGIN:VEVENT
DTSTART;VALUE=DATE:20270218
DTEND;VALUE=DATE:20270219
DTSTAMP:20260422T024242
CREATED:20251216T192349Z
LAST-MODIFIED:20251216T193626Z
UID:10000589-1802908800-1802995199@ohmycupcakes.com
SUMMARY:Lunch Date! Get 20% off lunch at the Bridges.
DESCRIPTION:Stop in every Thursday for a Lunch Date! Get 20% off lunch at the Bridges.
URL:https://ohmycupcakes.com/event/lunch-date-get-20-off-lunch-at-the-bridges/2027-02-18/
END:VEVENT
BEGIN:VEVENT
DTSTART;VALUE=DATE:20270220
DTEND;VALUE=DATE:20270221
DTSTAMP:20260422T024242
CREATED:20251216T192501Z
LAST-MODIFIED:20251216T193743Z
UID:10000850-1803081600-1803167999@ohmycupcakes.com
SUMMARY:Cinnamon Roll Saturdays
DESCRIPTION:Come in for a warm cinnamon roll\, or order a Cinnamon Roll Kit to take home.  \nOrder here: https://ohmycupcakes.com/shop/sweet-treats/at-home-cinnamon-roll-kit/
URL:https://ohmycupcakes.com/event/cinnamon-roll-saturdays/2027-02-20/
END:VEVENT
BEGIN:VEVENT
DTSTART;VALUE=DATE:20270222
DTEND;VALUE=DATE:20270223
DTSTAMP:20260422T024242
CREATED:20251216T191824Z
LAST-MODIFIED:20260131T175436Z
UID:10000067-1803254400-1803340799@ohmycupcakes.com
SUMMARY:Mobile Mondays: Free Local Delivery all day!
DESCRIPTION:Take advantage of Free Local Delivery all day on Mondays!
URL:https://ohmycupcakes.com/event/mobile-mondays-free-local-delivery-all-day/2027-02-22/
END:VEVENT
END:VCALENDAR