BEGIN:VCALENDAR
VERSION:2.0
PRODID:-//Oh My Cupcakes! - ECPv6.15.18//NONSGML v1.0//EN
CALSCALE:GREGORIAN
METHOD:PUBLISH
X-WR-CALNAME:Oh My Cupcakes!
X-ORIGINAL-URL:https://ohmycupcakes.com
X-WR-CALDESC:Events for Oh My Cupcakes!
REFRESH-INTERVAL;VALUE=DURATION:PT1H
X-Robots-Tag:noindex
X-PUBLISHED-TTL:PT1H
BEGIN:VTIMEZONE
TZID:America/Chicago
BEGIN:DAYLIGHT
TZOFFSETFROM:-0600
TZOFFSETTO:-0500
TZNAME:CDT
DTSTART:20240310T080000
END:DAYLIGHT
BEGIN:STANDARD
TZOFFSETFROM:-0500
TZOFFSETTO:-0600
TZNAME:CST
DTSTART:20241103T070000
END:STANDARD
BEGIN:DAYLIGHT
TZOFFSETFROM:-0600
TZOFFSETTO:-0500
TZNAME:CDT
DTSTART:20250309T080000
END:DAYLIGHT
BEGIN:STANDARD
TZOFFSETFROM:-0500
TZOFFSETTO:-0600
TZNAME:CST
DTSTART:20251102T070000
END:STANDARD
BEGIN:DAYLIGHT
TZOFFSETFROM:-0600
TZOFFSETTO:-0500
TZNAME:CDT
DTSTART:20260308T080000
END:DAYLIGHT
BEGIN:STANDARD
TZOFFSETFROM:-0500
TZOFFSETTO:-0600
TZNAME:CST
DTSTART:20261101T070000
END:STANDARD
END:VTIMEZONE
BEGIN:VEVENT
DTSTART;VALUE=DATE:20251218
DTEND;VALUE=DATE:20251219
DTSTAMP:20260425T064230
CREATED:20251216T192349Z
LAST-MODIFIED:20251216T193626Z
UID:10000528-1766016000-1766102399@ohmycupcakes.com
SUMMARY:Lunch Date! Get 20% off lunch at the Bridges.
DESCRIPTION:Stop in every Thursday for a Lunch Date! Get 20% off lunch at the Bridges.
URL:https://ohmycupcakes.com/event/lunch-date-get-20-off-lunch-at-the-bridges/2025-12-18/
LOCATION:SD
END:VEVENT
BEGIN:VEVENT
DTSTART;TZID=America/Chicago:20251215T150000
DTEND;TZID=America/Chicago:20251215T170000
DTSTAMP:20260425T064230
CREATED:20251211T225640Z
LAST-MODIFIED:20251215T192507Z
UID:10000001-1765810800-1765818000@ohmycupcakes.com
SUMMARY:National Cupcake Day
DESCRIPTION:We are celebrating by painting canvases with The Wildflower Den from 3-5 pm.  \nLearn  more here: https://www.facebook.com/events/853169803751738
URL:https://ohmycupcakes.com/event/national-cupcake-day/
LOCATION:SD
ATTACH;FMTTYPE=image/jpeg:https://ohmycupcakes.com/wp-content/uploads/2025/12/Nat-Cupcake-Day.jpg
END:VEVENT
END:VCALENDAR